BEGIN:VCALENDAR
VERSION:2.0
PRODID:-//IDEAS at DOM//NONSGML Events//EN
CALSCALE:GREGORIAN
X-ORIGINAL-URL:https://ideasatdom.wustl.edu/events/
X-WR-CALDESC:IDEAS at DOM - Events
BEGIN:VEVENT
UID:20220612T0129Z-1654997358.7398-EO-5765-1@172.23.128.18
STATUS:CONFIRMED
DTSTAMP:20260424T113341Z
CREATED:20220610T200617Z
LAST-MODIFIED:20220610T202558Z
DTSTART;TZID=America/Chicago:20220831T160000
DTEND;TZID=America/Chicago:20220831T170000
SUMMARY: DOM Diversity Training 2.0 – Understanding
DESCRIPTION: DOM Diversity Training 2.0 – Understanding: August 31st from 4
 :00-5:00pm REGISTER A zoom link confirmation will be sent to you a week bef
 ore the session.  Please hold the date and time on your calendar until then
 .   DIVERSITY AND INCLUSION COURSE DESCRIPTIONS: Diversity and inclusion le
 aders provide a series of four\, one-hour training sessions on […]
X-ALT-DESC;FMTTYPE=text/html: <div class="callout"><h4>DOM Diversity Traini
 ng 2.0 – Understanding:<br />August 31st from 4:00-5:00pm</h4><p><a class="
 wusm-button" href="https://wustl.sabacloud.com/Saba/Web_spf/SPCTNT456Site/c
 ommon/registercatalog/virtc-0000062484">REGISTER</a></p><p><em><strong>A zo
 om link confirmation will be sent to you a week before the session.  Please
  hold the date and time on your calendar until then.</strong></em></p></div
 ><p> </p><p><strong>DIVERSITY AND INCLUSION COURSE DESCRIPTIONS:</strong></
 p><p>Diversity and inclusion leaders provide a series of four\, one-hour tr
 aining sessions on the fundamentals of diversity education. Each session is
  designed to build on and provide a greater awareness of\, understanding of
 \, commitment to\, and action on diversity and inclusion.  Each 1-hour cour
 se is designed to be taken separately and sequentially.</p><ul><li><a href=
 "https://diversity.med.wustl.edu/training/1-0/">Diversity and Inclusion 1.0
  – Awareness</a></li><li><a href="https://diversity.med.wustl.edu/training/
 2-0/">Diversity and Inclusion 2.0 – Understanding</a></li><li><a href="http
 s://diversity.med.wustl.edu/training/3-0/">Diversity and Inclusion 3.0 – Co
 mmitment</a></li><li><a href="https://diversity.med.wustl.edu/training/4-0/
 ">Diversity and Inclusion 4.0  – Action</a></li></ul><p>Facilitators use a 
 standard format in each session that consists of educational presentations 
 to illuminate the concepts being presented.</p>
ORGANIZER;CN="Jennifer":MAILTO:mosherj@wustl.edu
URL;VALUE=URI:https://ideasatdom.wustl.edu/events/event/dom-diversity-train
 ing-2-0-understanding-3/
END:VEVENT
BEGIN:VTIMEZONE
TZID:America/Chicago
BEGIN:DAYLIGHT
TZOFFSETFROM:-0600
TZOFFSETTO:-0500
DTSTART:20220313T080000
TZNAME:CDT
END:DAYLIGHT
END:VTIMEZONE
END:VCALENDAR
