BEGIN:VCALENDAR
VERSION:2.0
PRODID:-//IDEAS at DOM//NONSGML Events//EN
CALSCALE:GREGORIAN
X-ORIGINAL-URL:https://ideasatdom.wustl.edu/events/
X-WR-CALDESC:IDEAS at DOM - Events
BEGIN:VEVENT
UID:20220612T0129Z-1654997358.7254-EO-5753-1@172.23.128.18
STATUS:CONFIRMED
DTSTAMP:20260424T121339Z
CREATED:20220610T195649Z
LAST-MODIFIED:20220610T202613Z
DTSTART;TZID=America/Chicago:20220824T080000
DTEND;TZID=America/Chicago:20220824T090000
SUMMARY: DOM Diversity Training 4.0 – Action
DESCRIPTION: DOM Diversity Training 4.0 – Action: August 24th from 8:00-9:0
 0am REGISTER A zoom link confirmation will be sent to you a week before the
  session.  Please hold the date and time on your calendar until then.   DIV
 ERSITY AND INCLUSION COURSE DESCRIPTIONS: Diversity and inclusion leaders p
 rovide a series of four\, one-hour training sessions on […]
X-ALT-DESC;FMTTYPE=text/html: <div class="callout"><h4>DOM Diversity Traini
 ng 4.0 - Action:<br />August 24th from 8:00-9:00am</h4><p><a class="wusm-bu
 tton" href="https://wustl.sabacloud.com/Saba/Web_spf/SPCTNT456Site/common/r
 egistercatalog/virtc-0000062478">REGISTER</a></p><p><em><strong>A zoom link
  confirmation will be sent to you a week before the session.  Please hold t
 he date and time on your calendar until then.</strong></em></p></div><p> </
 p><p><strong>DIVERSITY AND INCLUSION COURSE DESCRIPTIONS:</strong></p><p>Di
 versity and inclusion leaders provide a series of four\, one-hour training 
 sessions on the fundamentals of diversity education. Each session is design
 ed to build on and provide a greater awareness of\, understanding of\, comm
 itment to\, and action on diversity and inclusion.  Each 1-hour course is d
 esigned to be taken separately and sequentially.</p><ul><li><a href="https:
 //diversity.med.wustl.edu/training/1-0/">Diversity and Inclusion 1.0 – Awar
 eness</a></li><li><a href="https://diversity.med.wustl.edu/training/2-0/">D
 iversity and Inclusion 2.0 – Understanding</a></li><li><a href="https://div
 ersity.med.wustl.edu/training/3-0/">Diversity and Inclusion 3.0 – Commitmen
 t</a></li><li><a href="https://diversity.med.wustl.edu/training/4-0/">Diver
 sity and Inclusion 4.0  – Action</a></li></ul><p>Facilitators use a standar
 d format in each session that consists of educational presentations to illu
 minate the concepts being presented.</p>
LOCATION:Online - Zoom
GEO:38.634745;-90.262682
ORGANIZER;CN="Jennifer":MAILTO:mosherj@wustl.edu
URL;VALUE=URI:https://ideasatdom.wustl.edu/events/event/dom-diversity-train
 ing-4-0-action-2/
END:VEVENT
BEGIN:VTIMEZONE
TZID:America/Chicago
BEGIN:DAYLIGHT
TZOFFSETFROM:-0600
TZOFFSETTO:-0500
DTSTART:20220313T080000
TZNAME:CDT
END:DAYLIGHT
END:VTIMEZONE
END:VCALENDAR
