BEGIN:VCALENDAR
VERSION:2.0
PRODID:-//IDEAS at DOM//NONSGML Events//EN
CALSCALE:GREGORIAN
X-ORIGINAL-URL:https://ideasatdom.wustl.edu/events/
X-WR-CALDESC:IDEAS at DOM - Events
BEGIN:VEVENT
UID:20241031T2039Z-1730407166.7071-EO-8676-1@10.24.106.144
STATUS:CONFIRMED
DTSTAMP:20260419T122740Z
CREATED:20241031T195848Z
LAST-MODIFIED:20241031T195848Z
DTSTART;TZID=America/Chicago:20241031T150000
DTEND;TZID=America/Chicago:20241031T160000
SUMMARY: Faculty Development Seminar – Effective Mentor-Mentee Collaboratio
 ns
DESCRIPTION: Presenters: Lisa de las Fuentes\, MD\, MS – Professor\, Co-Dir
 ector\, Cardiovascular Imaging and Clinical Research Core Laboratory Bradle
 y Evanoff\, MD\, MPH – Richard A and Elizabeth Henby Sutter Professor of Oc
 cupational\, Industrial\, and Environmental Medicine in Medicine\, Chief – 
 Division of General Medicine & Geriatrics Benjamin Humphreys\, MD\, PhD – J
 oseph Friedman Professor of Renal Diseases in Medicine […]
X-ALT-DESC;FMTTYPE=text/html: <p><strong>Presenters</strong>:<br /><a href=
 "https://cardiology.wustl.edu/people/lisa-de-las-fuentes-md-ms/" data-type=
 "link" data-id="https://cardiology.wustl.edu/people/lisa-de-las-fuentes-md-
 ms/">Lisa de las Fuentes\, MD\, MS</a> – Professor\, Co-Director\, Cardiova
 scular Imaging and Clinical Research Core Laboratory</p><p><a href="https:/
 /generalmedicinegeriatrics.wustl.edu/people/bradley-evanoff-md-mph/">Bradle
 y Evanoff\, MD\, MPH </a>– Richard A and Elizabeth Henby Sutter Professor o
 f Occupational\, Industrial\, and Environmental Medicine in Medicine\, Chie
 f – Division of General Medicine & Geriatrics</p><p><a href="https://nephro
 logy.wustl.edu/people/benjamin-d-humphreys-md-phd/" data-type="link" data-i
 d="https://nephrology.wustl.edu/people/benjamin-d-humphreys-md-phd/">Benjam
 in Humphreys\, MD\, PhD</a> – Joseph Friedman Professor of Renal Diseases i
 n Medicine and Chief\, Division of Nephrology</p><p>Co-Sponsored by:<br /><
 a href="https://internalmedicinefaculty.wustl.edu/">Office of Faculty Devel
 opment</a><br /><a href="https://internalmedicine.wustl.edu/diversity/advan
 cing-women-in-academic-medicine/">Advancing Women in Academic Medicine (AWA
 M)</a><br /><a href="https://ideasatdom.wustl.edu/programs-initiatives/meda
 /">Mentorship to Enhance Diversity in Academia (MEDA) Program</a></p>
CATEGORIES:MEDA
ORGANIZER;CN="Jennifer":MAILTO:mosherj@wustl.edu
URL;VALUE=URI:https://ideasatdom.wustl.edu/events/event/faculty-development
 -seminar-effective-mentor-mentee-collaborations/
END:VEVENT
BEGIN:VTIMEZONE
TZID:America/Chicago
BEGIN:DAYLIGHT
TZOFFSETFROM:-0600
TZOFFSETTO:-0500
DTSTART:20240310T080000
TZNAME:CDT
END:DAYLIGHT
END:VTIMEZONE
END:VCALENDAR
