BEGIN:VCALENDAR
VERSION:2.0
PRODID:-//IDEAS at DOM//NONSGML Events//EN
CALSCALE:GREGORIAN
X-ORIGINAL-URL:https://ideasatdom.wustl.edu/events/
X-WR-CALDESC:IDEAS at DOM - Events
BEGIN:VEVENT
UID:20190315T1904Z-1552676677.1177-EO-2314-1@172.23.128.18
STATUS:CONFIRMED
DTSTAMP:20260425T045728Z
CREATED:20190313T160815Z
LAST-MODIFIED:20190313T160935Z
DTSTART;TZID=America/Chicago:20190411T150000
DTEND;TZID=America/Chicago:20190411T180000
SUMMARY: Happy Haku Lei Project workshop
DESCRIPTION: Thursday\, April 11\, 2019 3:00-4:30pm – Workshop A 4:30-6:00p
 m – Workshop B Farrell Learning and Teaching Center\, Room 401 & 402 Learn 
 how to make a Hawaiian fresh flower crown\, which will be distributed to gy
 necologic oncology patients! RSVP Workshop Flyer (pdf)    
X-ALT-DESC;FMTTYPE=text/html: <p><strong>Thursday\, April 11\, 2019</strong
 ><br /><strong>3:00-4:30pm - Workshop A</strong><br /><strong>4:30-6:00pm -
  Workshop B</strong><br /><strong>Farrell Learning and Teaching Center\, Ro
 om 401 & 402</strong></p><p>Learn how to make a Hawaiian fresh flower crown
 \, which will be distributed to gynecologic oncology patients!</p><p><a hre
 f="https://docs.google.com/forms/d/e/1FAIpQLScKMayU7UUih6VxDew9ZtXmap_OWlNv
 LfiWP9hHAaJNq8tF_A/viewform"><strong>RSVP</strong></a></p><p><strong><a hre
 f="https://ideasatdom.wustl.edu/app/uploads/2019/03/2019-Happy-Haku-Lei-Pro
 ject-Flyer.pdf">Workshop Flyer (pdf)</a></strong></p><p> </p><p> </p>
ORGANIZER;CN="Jennifer":MAILTO:mosherj@wustl.edu
URL;VALUE=URI:https://ideasatdom.wustl.edu/events/event/happy-haku-lei-proj
 ect-workshop/
END:VEVENT
BEGIN:VTIMEZONE
TZID:America/Chicago
BEGIN:DAYLIGHT
TZOFFSETFROM:-0600
TZOFFSETTO:-0500
DTSTART:20190310T080000
TZNAME:CDT
END:DAYLIGHT
END:VTIMEZONE
END:VCALENDAR
