BEGIN:VCALENDAR
VERSION:2.0
PRODID:-//IDEAS at DOM//NONSGML Events//EN
CALSCALE:GREGORIAN
X-ORIGINAL-URL:https://ideasatdom.wustl.edu/events/
X-WR-CALDESC:IDEAS at DOM - Events
BEGIN:VEVENT
UID:20220531T1959Z-1654027156.2137-EO-5501-1@172.23.128.18
STATUS:CONFIRMED
DTSTAMP:20260424T200017Z
CREATED:20220526T145615Z
LAST-MODIFIED:20220526T192650Z
DTSTART;TZID=America/Chicago:20220623T100000
DTEND;TZID=America/Chicago:20220623T110000
SUMMARY: MEDA Mentoring Coffee Hour – Hot Science Summer! Work/Life balance
  during the summer months
DESCRIPTION: MEDA Mentoring Coffee Hour Hot Science Summer! Work/Life balan
 ce during the summer months. McDonnell Sciences – Shell Cafe Join us for co
 ffee\, juice\, bagels\, and mentee/mentor networking! Register MEDA is open
  to all within the Washington University School of Medicine community with 
 the shared goal of promoting an equitable and inclusive environment for Und
 errepresented Minorities […]
X-ALT-DESC;FMTTYPE=text/html: <p><strong>MEDA Mentoring Coffee Hour<br />Ho
 t Science Summer! Work/Life balance during the summer months.<br /></strong
 >McDonnell Sciences - Shell Cafe</p><p>Join us for coffee\, juice\, bagels\
 , and mentee/mentor networking!</p><p><span style="text-decoration: underli
 ne\;"><strong><a href="https://wucrtc.az1.qualtrics.com/jfe/form/SV_6Fkhv2N
 EwhCRVDU">Register</a></strong></span></p><p><em><strong>MEDA is open to al
 l within the Washington University School of Medicine community with the sh
 ared goal of promoting an equitable and inclusive environment for Underrepr
 esented Minorities in Medicine. MEDA is funded the John T. Milliken Departm
 ent of Medicine – Office of Inclusion and Diversity.</strong></em></p><p> <
 /p>
ORGANIZER;CN="Jennifer":MAILTO:mosherj@wustl.edu
URL;VALUE=URI:https://ideasatdom.wustl.edu/events/event/meda-mentoring-coff
 ee-hour/
END:VEVENT
BEGIN:VTIMEZONE
TZID:America/Chicago
BEGIN:DAYLIGHT
TZOFFSETFROM:-0600
TZOFFSETTO:-0500
DTSTART:20220313T080000
TZNAME:CDT
END:DAYLIGHT
END:VTIMEZONE
END:VCALENDAR
