BEGIN:VCALENDAR
VERSION:2.0
PRODID:-//IDEAS at DOM//NONSGML Events//EN
CALSCALE:GREGORIAN
X-ORIGINAL-URL:https://ideasatdom.wustl.edu/events/
X-WR-CALDESC:IDEAS at DOM - Events
BEGIN:VEVENT
UID:20200405T1900Z-1586113204.622-EO-2933-1@172.23.128.18
STATUS:CONFIRMED
DTSTAMP:20260422T104226Z
CREATED:20200403T191226Z
LAST-MODIFIED:20200403T191226Z
DTSTART;TZID=America/Chicago:20200409T110000
DTEND;TZID=America/Chicago:20200409T113000
RRULE:FREQ=WEEKLY;INTERVAL=1;BYDAY=TH;UNTIL=20200430T160000Z
SUMMARY: Mindfulness Connection: D&I Perspectives
DESCRIPTION: Thursdays ongoing starting 4/2 11:00 – 11:30 am Click here to 
 join the meeting! ID 482 377 244 Password: 020811 Use your practice to come
  back to the present moment – taking care of self and the needs of the mome
 nt\, with loving attention.  Using a conscious breath in/out – dropping the
  shoulders\; calming the […]
X-ALT-DESC;FMTTYPE=text/html: <p>Thursdays ongoing starting 4/2</p><p>11:00
  – 11:30 am</p><p><a href="https://zoom.us/j/482377244?pwd=TUVacGNpSnY3U2dC
 RVJCTXpjdTQ3UT09">Click here to join the meeting!</a><br />ID 482 377 244<b
 r />Password: 020811</p><div class="entry-content"><p>Use your practice to 
 come back to the present moment – taking care of self and the needs of the 
 moment\, with loving attention.  Using a conscious breath in/out – dropping
  the shoulders\; calming the anxiety and fear letting go of tension in the 
 body/mind trusting the precautions and advised modified working/relating me
 thods/sheltering at home patience with the uncertainty and the duration of 
 this “time” accepting of the recommended changes (<em>even if you don’t wan
 t them)</em></p></div>
ORGANIZER;CN="Jennifer":MAILTO:mosherj@wustl.edu
URL;VALUE=URI:https://ideasatdom.wustl.edu/events/event/mindfulness-connect
 ion-di-perspectives/
END:VEVENT
BEGIN:VTIMEZONE
TZID:America/Chicago
BEGIN:DAYLIGHT
TZOFFSETFROM:-0600
TZOFFSETTO:-0500
DTSTART:20200308T080000
TZNAME:CDT
END:DAYLIGHT
END:VTIMEZONE
END:VCALENDAR
