BEGIN:VCALENDAR
VERSION:2.0
PRODID:-//IDEAS at DOM//NONSGML Events//EN
CALSCALE:GREGORIAN
X-ORIGINAL-URL:https://ideasatdom.wustl.edu/events/
X-WR-CALDESC:IDEAS at DOM - Events
BEGIN:VEVENT
UID:20230114T0544Z-1673675096.1911-EO-6909-1@172.23.128.18
STATUS:CONFIRMED
DTSTAMP:20260424T220537Z
CREATED:20221222T163452Z
LAST-MODIFIED:20221222T163452Z
DTSTART;TZID=America/Chicago:20230117T120000
DTEND;TZID=America/Chicago:20230117T183000
SUMMARY: MLK Week Commemoration Save-the-Date
DESCRIPTION: Every year\, the WUSM School of Medicine community honor Dr. M
 artin Luther King\, Jr. during a week of programming open to our campus and
  community. Events include keynote speakers\, service opportunities\, panel
  discussions\, and more. Learn more
X-ALT-DESC;FMTTYPE=text/html: <p>Every year\, the WUSM School of Medicine c
 ommunity honor Dr. Martin Luther King\, Jr. during a week of programming op
 en to our campus and community. Events include keynote speakers\, service o
 pportunities\, panel discussions\, and more.</p><p><a href="https://diversi
 ty.med.wustl.edu/events/mlk-week/"><strong>Learn more</strong></a></p>
LOCATION:Online - Zoom
GEO:38.634745;-90.262682
ORGANIZER;CN="McKinzie":MAILTO:tolliver.m@wustl.edu
URL;VALUE=URI:https://ideasatdom.wustl.edu/events/event/mlk-week-commemorat
 ion-save-the-date/
END:VEVENT
BEGIN:VTIMEZONE
TZID:America/Chicago
BEGIN:STANDARD
TZOFFSETFROM:-0500
TZOFFSETTO:-0600
DTSTART:20221106T070000
TZNAME:CST
END:STANDARD
END:VTIMEZONE
END:VCALENDAR
