BEGIN:VCALENDAR
VERSION:2.0
PRODID:-//IDEAS at DOM//NONSGML Events//EN
CALSCALE:GREGORIAN
X-ORIGINAL-URL:https://ideasatdom.wustl.edu/events/
X-WR-CALDESC:IDEAS at DOM - Events
BEGIN:VEVENT
UID:20230514T0957Z-1684058271.0128-EO-7539-1@172.23.128.18
STATUS:CONFIRMED
DTSTAMP:20260420T093854Z
CREATED:20230509T185901Z
LAST-MODIFIED:20230509T185910Z
DTSTART;TZID=America/Chicago:20230511T173000
DTEND;TZID=America/Chicago:20230511T183000
SUMMARY: OUTmed Gathering
DESCRIPTION: We will be gathering on May 11th from 5:30-6:30pm in Room 301 
 and 302 of the Farrell Learning and Teaching Center to provide a safe space
  for our community to process recent events. Please join us to share\, list
 en\, and connect with others as we face these challenges together.
X-ALT-DESC;FMTTYPE=text/html: <p>We will be gathering on May 11th from 5:30
 -6:30pm in Room 301 and 302 of the Farrell Learning and Teaching Center to 
 provide a safe space for our community to process recent events. Please joi
 n us to share\, listen\, and connect with others as we face these challenge
 s together.</p>
CATEGORIES:OUTmed
LOCATION:Farrell Learning and Teaching Center
GEO:38.635402;-90.262703
ORGANIZER;CN="Jennifer":MAILTO:mosherj@wustl.edu
URL;VALUE=URI:https://ideasatdom.wustl.edu/events/event/outmed-gathering/
END:VEVENT
BEGIN:VTIMEZONE
TZID:America/Chicago
BEGIN:DAYLIGHT
TZOFFSETFROM:-0600
TZOFFSETTO:-0500
DTSTART:20230312T080000
TZNAME:CDT
END:DAYLIGHT
END:VTIMEZONE
END:VCALENDAR
