BEGIN:VCALENDAR
VERSION:2.0
PRODID:-//IDEAS at DOM//NONSGML Events//EN
CALSCALE:GREGORIAN
X-ORIGINAL-URL:https://ideasatdom.wustl.edu/events/
X-WR-CALDESC:IDEAS at DOM - Events
BEGIN:VEVENT
UID:20180901T0617Z-1535782656.0835-EO-1025-1@172.21.70.41
STATUS:CONFIRMED
DTSTAMP:20260425T175229Z
CREATED:20171228T145645Z
LAST-MODIFIED:20180119T152209Z
DTSTART;TZID=America/Chicago:20180308T180000
DTEND;TZID=America/Chicago:20180308T200000
SUMMARY: OUTmed Happy Hour
DESCRIPTION: Join OUTmed at Hamburger Mary’s on March 8th at 6:00pm for a H
 appy Hour to recognize the opening of the new Differences of Sex Developmen
 t/Intersex multidisciplinary clinic at SLCH.    
X-ALT-DESC;FMTTYPE=text/html: <p>Join OUTmed at <a href="http://www.hamburg
 ermarys.com/stlouis/">Hamburger Mary's </a>on March 8th at 6:00pm for a Hap
 py Hour to recognize the opening of the new <strong>Differences of Sex Deve
 lopment/Intersex multidisciplinary clinic</strong> at SLCH.</p><p> </p><p> 
 </p>
ORGANIZER;CN="Jennifer":MAILTO:mosherj@wustl.edu
URL;VALUE=URI:https://ideasatdom.wustl.edu/events/event/outmed-happy-hour/
END:VEVENT
BEGIN:VTIMEZONE
TZID:America/Chicago
BEGIN:STANDARD
TZOFFSETFROM:-0500
TZOFFSETTO:-0600
DTSTART:20171105T070000
TZNAME:CST
END:STANDARD
END:VTIMEZONE
END:VCALENDAR
