BEGIN:VCALENDAR
VERSION:2.0
PRODID:-//IDEAS at DOM//NONSGML Events//EN
CALSCALE:GREGORIAN
X-ORIGINAL-URL:https://ideasatdom.wustl.edu/events/
X-WR-CALDESC:IDEAS at DOM - Events
BEGIN:VEVENT
UID:20230216T0951Z-1676541093.1711-EO-7406-1@172.23.128.18
STATUS:CONFIRMED
DTSTAMP:20260425T095405Z
CREATED:20230210T184340Z
LAST-MODIFIED:20230210T184435Z
DTSTART;TZID=America/Chicago:20230329T173000
DTEND;TZID=America/Chicago:20230329T193000
SUMMARY: OUTmed Queer Mentoring 2.0
DESCRIPTION: Presented by: Tony Dao\, MD – OUTmed Director\, Assistant Prof
 essor\, Division of Hospital Medicine\, Department of Medicine Thomas De Fe
 r\, MD – Professor\, Associate Dean for Medical Student Education\, Chief\,
  Division of General Medicine\, Department of Internal Medicine. Hosted by 
 OUTmed this workshop will focus on various aspects of mentorship\, how to g
 et the most […]
X-ALT-DESC;FMTTYPE=text/html: <p>Presented by:<br /><strong>Tony Dao\, MD</
 strong> - OUTmed Director\, Assistant Professor\, Division of Hospital Medi
 cine\, Department of Medicine<br /><strong>Thomas De Fer\, MD</strong> - Pr
 ofessor\, Associate Dean for Medical Student Education\, Chief\, Division o
 f General Medicine\, Department of Internal Medicine.</p><p>Hosted by OUTme
 d this workshop will focus on various aspects of mentorship\, how to get th
 e most out of your OUTmentor mentorship groups\, and how allies can best me
 ntor LGBTQIA+  professionals.</p><p>Allies welcome!</p><p>Dinner will be pr
 ovided.</p><p><a class="button-primary" href="https://wucrtc.az1.qualtrics.
 com/jfe/form/SV_3Q1DELik3061bca"><strong>Click here to register</strong></a
 ></p><p> </p>
CATEGORIES:OUTmed
LOCATION:Farrell Learning and Teaching Center\, Connor Auditorium
GEO:38.635402;-90.262703
ORGANIZER;CN="Jennifer":MAILTO:mosherj@wustl.edu
URL;VALUE=URI:https://ideasatdom.wustl.edu/events/event/outmed-queer-mentor
 ing-2-0/
END:VEVENT
BEGIN:VTIMEZONE
TZID:America/Chicago
BEGIN:DAYLIGHT
TZOFFSETFROM:-0600
TZOFFSETTO:-0500
DTSTART:20230312T080000
TZNAME:CDT
END:DAYLIGHT
END:VTIMEZONE
END:VCALENDAR
