BEGIN:VCALENDAR
VERSION:2.0
PRODID:-//IDEAS at DOM//NONSGML Events//EN
CALSCALE:GREGORIAN
X-ORIGINAL-URL:https://ideasatdom.wustl.edu/events/
X-WR-CALDESC:IDEAS at DOM - Events
BEGIN:VEVENT
UID:20180901T0617Z-1535782656.0637-EO-1265-1@172.21.70.41
STATUS:CONFIRMED
DTSTAMP:20260425T161608Z
CREATED:20180214T192345Z
LAST-MODIFIED:20180214T192345Z
DTSTART;TZID=America/Chicago:20180221T120000
DTEND;TZID=America/Chicago:20180221T125000
SUMMARY: Perspectives Dialong Circle:  Supporting Our Trans Community
DESCRIPTION: Supporting Our Trans Community Sayer Johnson Executive Directo
 r Metro Trans Umbrella Group\, MTUG Wednesday\, February 21st from 12:00-12
 :50pm in FLTC\, Room 214
X-ALT-DESC;FMTTYPE=text/html: <p><strong>Supporting Our Trans Community<br 
 /></strong>Sayer Johnson<br />Executive Director<br />Metro Trans Umbrella 
 Group\, MTUG</p><p>Wednesday\, February 21st from 12:00-12:50pm in FLTC\, R
 oom 214</p>
ORGANIZER;CN="Jennifer":MAILTO:mosherj@wustl.edu
URL;VALUE=URI:https://ideasatdom.wustl.edu/events/event/perspectives-dialon
 g-circle-supporting-our-trans-community/
END:VEVENT
BEGIN:VTIMEZONE
TZID:America/Chicago
BEGIN:STANDARD
TZOFFSETFROM:-0500
TZOFFSETTO:-0600
DTSTART:20171105T070000
TZNAME:CST
END:STANDARD
END:VTIMEZONE
END:VCALENDAR
