BEGIN:VCALENDAR
VERSION:2.0
PRODID:-//IDEAS at DOM//NONSGML Events//EN
CALSCALE:GREGORIAN
X-ORIGINAL-URL:https://ideasatdom.wustl.edu/events/
X-WR-CALDESC:IDEAS at DOM - Events
BEGIN:VEVENT
UID:20240419T1646Z-1713545201.2383-EO-8282-1@172.23.128.18
STATUS:CONFIRMED
DTSTAMP:20260421T092920Z
CREATED:20240419T160031Z
LAST-MODIFIED:20240419T160031Z
DTSTART;TZID=America/Chicago:20240521T113000
DTEND;TZID=America/Chicago:20240521T163000
SUMMARY: Reframing: A Call To Inclusion
DESCRIPTION: Inclusion. Belonging. Shared Humanity. Disabilities. Join us f
 or an EMPOWERING half-day symposium designed to UPLIFT voices and CELEBRATE
  the diversity of experiences among individuals with genetic\, physical\, b
 ehavioral\, or intellectual differences. Attendees will engage with inspiri
 ng stories\, form meaningful connections\, and promote education and advoca
 cy. We aim to model inclusion through our shared humanity and acknowledgmen
 t of more similarities than differences. Together\, […]
X-ALT-DESC;FMTTYPE=text/html: <p class="is-style-lead">Inclusion. Belonging
 . Shared Humanity. Disabilities.</p><div class="wp-block-columns is-layout-
 flex wp-container-5 wp-block-columns-is-layout-flex"><div class="wp-block-c
 olumn is-layout-flow wp-block-column-is-layout-flow"><p class="is-style-def
 ault">Join us for an <strong>EMPOWERING</strong> half-day symposium designe
 d to <strong>UPLIFT</strong> voices and <strong>CELEBRATE</strong> the dive
 rsity of experiences among individuals with genetic\, physical\, behavioral
 \, or intellectual differences.</p><p class="is-style-default">Attendees wi
 ll engage with inspiring stories\, form meaningful connections\, and promot
 e education and advocacy. We aim to model inclusion through our shared huma
 nity and acknowledgment of more similarities than differences.</p><p class=
 "is-style-default">Together\, let’s embrace our shared humanity\, focusing 
 on unity over division. Be a part of the movement where our commonalities s
 hine and our differences are celebrated.</p><p><a href="https://anesthesiol
 ogy.wustl.edu/reframing-a-call-to-inclusion/#RSVP">Learn more & RSVP>></a><
 /p></div></div>
CATEGORIES:Diversity
LOCATION:Eric P. Newman Education Center
GEO:38.636879;-90.262400
ORGANIZER;CN="Jennifer":MAILTO:mosherj@wustl.edu
URL;VALUE=URI:https://ideasatdom.wustl.edu/events/event/reframing-a-call-to
 -inclusion/
END:VEVENT
BEGIN:VTIMEZONE
TZID:America/Chicago
BEGIN:DAYLIGHT
TZOFFSETFROM:-0600
TZOFFSETTO:-0500
DTSTART:20240310T080000
TZNAME:CDT
END:DAYLIGHT
END:VTIMEZONE
END:VCALENDAR
