BEGIN:VCALENDAR
VERSION:2.0
PRODID:-//IDEAS at DOM//NONSGML Events//EN
CALSCALE:GREGORIAN
X-ORIGINAL-URL:https://ideasatdom.wustl.edu/events/
X-WR-CALDESC:IDEAS at DOM - Events
BEGIN:VEVENT
UID:20180901T0617Z-1535782656.0006-EO-921-1@172.21.70.41
STATUS:CONFIRMED
DTSTAMP:20260424T180717Z
CREATED:20171108T195831Z
LAST-MODIFIED:20171108T200035Z
DTSTART;TZID=America/Chicago:20171129T120000
DTEND;TZID=America/Chicago:20171129T130000
SUMMARY: World AIDS Day – Lunch & Video Screening
DESCRIPTION: HOLDEN AUDITORIUM\, Farrell Learning and Teaching Center RSVPS
  to mosherj@wustl.edu are helpful but not necessary for attendance Join OUT
 med\, LGBTQ Med\, and the Division of Infectious Diseases for: FREE LUNCH a
 nd VIDEO SCREENING as we raise awareness about World AIDS Day and HIV/AIDS 
 in the St. Louis community Did you know: World AIDS Day is […]
X-ALT-DESC;FMTTYPE=text/html: <p><strong>HOLDEN AUDITORIUM\, Farrell Learni
 ng and Teaching Center</strong><br />RSVPS to <a href="mailto:mosherj@wustl
 .edu">mosherj@wustl.edu</a> are helpful but not necessary for attendance</p
 ><p>Join OUTmed\, LGBTQ Med\, and the Division of Infectious Diseases for:<
 br />FREE LUNCH and VIDEO SCREENING as we raise awareness about World AIDS 
 Day and HIV/AIDS in the St. Louis community</p><p>Did you know:</p><ul><li>
 World AIDS Day is December 1?</li><li>World AIDS Day\, founded in 1988\,  w
 as the first ever global health day?</li><li>This year the St. Louis World 
 AIDS Day is being coordinated by our own Washington University School of Me
 dicine Infectious Diseases Clinic in cooperation with the St. Louis Region 
 World AIDS Day Committee?</li></ul><p>Then\, plan to attend the World AIDS 
 Day events at the Missouri History Museum from 3-7 pm on December 1. See fl
 yer attached or go to <a href="http://mohistory.org/node/59326">http://mohi
 story.org/node/59326</a> for more information.</p><p>The World AIDS Day eve
 nt on December 1st will include a viewing of the AIDS Memorial Quilt\, a sc
 reening of the film Still Around\, and a performance by The Gateway Men’s C
 horus. The first Annual Red Ribbon Awards will be announced as well as vend
 or exhibits demonstrating their dedication to the St. Louis HIV/AIDS commun
 ity. The evening will conclude with a Memorial Vigil to honor the lives aff
 ected by HIV/AIDS and to encourage hope for the future.</p><p><a href="http
 s://ideasatdom.wustl.edu/app/uploads/2017/11/WAD-9.pdf">Event Flyer (PDF)</
 a></p>
ORGANIZER;CN="Jennifer":MAILTO:mosherj@wustl.edu
URL;VALUE=URI:https://ideasatdom.wustl.edu/events/event/world-aids-day-lunc
 h-video-screening/
END:VEVENT
BEGIN:VTIMEZONE
TZID:America/Chicago
BEGIN:STANDARD
TZOFFSETFROM:-0500
TZOFFSETTO:-0600
DTSTART:20171105T070000
TZNAME:CST
END:STANDARD
END:VTIMEZONE
END:VCALENDAR
